BEGIN:VCALENDAR
VERSION:2.0
PRODID:-//sebbo.net//ical-generator//EN
NAME:Live From Home
X-WR-CALNAME:Live From Home
BEGIN:VEVENT
UID:000-vdw6xh@livenation.com
SEQUENCE:0
DTSTAMP:20211109T094759Z
DTSTART:20220202T013000Z
DTEND:20220202T020000Z
SUMMARY:Geoff Tate (formerly of Queensryche)\, Kurt Deimer\, Mark Daly & T
 he Ravens
DESCRIPTION:Watch on Veeps: https://highdivegville.veeps.com/stream/events
 /69dc869d-852c-44d3-8d96-29ce8bf7c031
BEGIN:VALARM
ACTION:DISPLAY
TRIGGER:-PT15M
DESCRIPTION:Geoff Tate (formerly of Queensryche)\, Kurt Deimer\, Mark Daly
  & The Ravens Reminder
END:VALARM
URL;VALUE=URI:https://highdivegville.veeps.com/stream/events/69dc869d-852c
 -44d3-8d96-29ce8bf7c031
STATUS:CONFIRMED
END:VEVENT
END:VCALENDAR