BEGIN:VCALENDAR
VERSION:2.0
PRODID:-//sebbo.net//ical-generator//EN
NAME:Live Nation
X-WR-CALNAME:Live Nation
BEGIN:VEVENT
UID:9966dc960f2f025db085f94068c89013@livenation.com
SEQUENCE:0
DTSTAMP:20260423T180326Z
DTSTART:20260429T140000Z
DTEND:20260429T140000Z
SUMMARY:Summer of Live - $30 Tickets - On Sale
DESCRIPTION:Summer of Live - $30 Tickets ON SALE NOW\nhttps://www.livenati
 on.com/promotion/summeroflive
BEGIN:VALARM
ACTION:DISPLAY
TRIGGER:-PT15M
DESCRIPTION:Summer of Live - $30 Tickets - Sale Reminder
END:VALARM
URL;VALUE=URI:https://www.livenation.com/promotion/summeroflive
END:VEVENT
END:VCALENDAR